BEGIN:VCALENDAR
VERSION:2.0
CALSCALE:GREGORIAN
PRODID:adamgibbons/ics
METHOD:PUBLISH
X-PUBLISHED-TTL:PT1H
BEGIN:VEVENT
UID:20360@offbeat.amsterdam
SUMMARY:Filmm & Frog Jumps Out @ Helicopter
DTSTAMP:20260420T050311Z
DTSTART:20260509T163000Z
DTEND:20260509T200000Z
URL:https://offbeat.amsterdam/event/filmm-and-frog-jumps-out-helicopter
LOCATION:Helicopter Amsterdam - Helicopterstraat 8\, 1059 CG Amsterdam
STATUS:CONFIRMED
CATEGORIES:amsterdam-zuid,band,bands,filmm,frog jumps out,games,hardcore,he
	licopter,improv,jam session,jazz,live,muziek,optreden,rock
END:VEVENT
BEGIN:VEVENT
UID:20361@offbeat.amsterdam
SUMMARY:LAUNCHPAD 16 🚀 @ Helicopter
DTSTAMP:20260420T050311Z
DTSTART:20260522T180000Z
DTEND:20260522T230000Z
URL:https://offbeat.amsterdam/event/launchpad-16-helicopter
LOCATION:Helicopter Amsterdam - Helicopterstraat 8\, 1059 CG Amsterdam
STATUS:CONFIRMED
CATEGORIES:optreden,performance,amsterdam,stoner,titus,rock,amsterdam-zuid,
	bands,dj,helicopter,indie,kielzog,launchpad,live,live music,live muziek,mu
	sic,muziek,naïef set,oefenruimtes
END:VEVENT
END:VCALENDAR
